Package: loci2path Version: 1.31.0 Command: /Library/Frameworks/R.framework/Resources/bin/R CMD build --keep-empty-dirs --no-resave-data loci2path StartedAt: 2025-11-21 16:47:30 -0500 (Fri, 21 Nov 2025) EndedAt: 2025-11-21 16:47:39 -0500 (Fri, 21 Nov 2025) EllapsedTime: 9.1 seconds RetCode: 0 Status: OK PackageFile: loci2path_1.31.0.tar.gz PackageFileSize: 610.6 KiB