Package: loci2path Version: 1.31.0 Command: rm -rf loci2path.buildbin-libdir && mkdir loci2path.buildbin-libdir && /Users/biocbuild/BBS/utils/build-universal.sh loci2path_1.31.0.tar.gz /Library/Frameworks/R.framework/Resources/bin/R loci2path.buildbin-libdir StartedAt: 2025-11-21 23:38:02 -0500 (Fri, 21 Nov 2025) EndedAt: 2025-11-21 23:38:08 -0500 (Fri, 21 Nov 2025) EllapsedTime: 6.2 seconds RetCode: 0 Status: OK PackageFile: loci2path_1.31.0.tgz PackageFileSize: 804.7 KiB