Package: lmdme Version: 1.53.0 Command: /home/biocbuild/bbs-3.23-bioc/R/bin/R CMD INSTALL lmdme StartedAt: 2025-11-13 15:10:48 -0500 (Thu, 13 Nov 2025) EndedAt: 2025-11-13 15:11:04 -0500 (Thu, 13 Nov 2025) EllapsedTime: 15.7 seconds RetCode: 0 Status: OK