Package: lmdme Version: 1.53.0 Command: /home/biocbuild/bbs-3.23-bioc/R/bin/R CMD build --keep-empty-dirs --no-resave-data lmdme StartedAt: 2025-11-13 18:21:20 -0500 (Thu, 13 Nov 2025) EndedAt: 2025-11-13 18:21:31 -0500 (Thu, 13 Nov 2025) EllapsedTime: 11.0 seconds RetCode: 0 Status: OK PackageFile: lmdme_1.53.0.tar.gz PackageFileSize: 609.2 KiB