Package: lmdme Version: 1.53.0 Command: /Library/Frameworks/R.framework/Resources/bin/R CMD INSTALL lmdme StartedAt: 2025-11-14 15:06:41 -0500 (Fri, 14 Nov 2025) EndedAt: 2025-11-14 15:06:50 -0500 (Fri, 14 Nov 2025) EllapsedTime: 9.3 seconds RetCode: 0 Status: OK