Package: lmdme Version: 1.53.0 Command: /Library/Frameworks/R.framework/Resources/bin/R CMD build --keep-empty-dirs --no-resave-data lmdme StartedAt: 2025-11-14 16:48:08 -0500 (Fri, 14 Nov 2025) EndedAt: 2025-11-14 16:48:15 -0500 (Fri, 14 Nov 2025) EllapsedTime: 7.1 seconds RetCode: 0 Status: OK PackageFile: lmdme_1.53.0.tar.gz PackageFileSize: 608.9 KiB