Package: lmdme Version: 1.53.0 Maintainer: Cristobal Fresno MaintainerEmail: cfresno at bdmg.com.ar git_url: https://git.bioconductor.org/packages/lmdme git_branch: devel git_last_commit: 885461c git_last_commit_date: 2025-10-29 10:11:57 -0500 (Wed, 29 Oct 2025)