Package: lisaClust Version: 1.19.0 Command: /home/biocbuild/bbs-3.23-bioc/R/bin/R CMD INSTALL lisaClust StartedAt: 2025-11-13 15:38:15 -0500 (Thu, 13 Nov 2025) EndedAt: 2025-11-13 15:38:43 -0500 (Thu, 13 Nov 2025) EllapsedTime: 27.2 seconds RetCode: 0 Status: OK