Package: lisaClust Version: 1.19.0 Command: /home/biocbuild/bbs-3.23-bioc/R/bin/R CMD build --keep-empty-dirs --no-resave-data lisaClust StartedAt: 2025-11-13 18:21:18 -0500 (Thu, 13 Nov 2025) EndedAt: 2025-11-13 18:25:40 -0500 (Thu, 13 Nov 2025) EllapsedTime: 262.3 seconds RetCode: 0 Status: OK PackageFile: lisaClust_1.19.0.tar.gz PackageFileSize: 2.385 MiB