Package: lisaClust Version: 1.19.0 Command: /Library/Frameworks/R.framework/Resources/bin/R CMD INSTALL lisaClust StartedAt: 2025-11-13 15:20:31 -0500 (Thu, 13 Nov 2025) EndedAt: 2025-11-13 15:20:43 -0500 (Thu, 13 Nov 2025) EllapsedTime: 11.7 seconds RetCode: 0 Status: OK