Package: lisaClust Version: 1.19.0 Command: /Library/Frameworks/R.framework/Resources/bin/R CMD build --keep-empty-dirs --no-resave-data lisaClust StartedAt: 2025-11-13 16:51:16 -0500 (Thu, 13 Nov 2025) EndedAt: 2025-11-13 16:52:43 -0500 (Thu, 13 Nov 2025) EllapsedTime: 87.0 seconds RetCode: 0 Status: OK PackageFile: lisaClust_1.19.0.tar.gz PackageFileSize: 2.553 MiB