Package: lisaClust Version: 1.19.0 Command: rm -rf lisaClust.buildbin-libdir && mkdir lisaClust.buildbin-libdir && /Users/biocbuild/BBS/utils/build-universal.sh lisaClust_1.19.0.tar.gz /Library/Frameworks/R.framework/Resources/bin/R lisaClust.buildbin-libdir StartedAt: 2025-11-13 23:43:24 -0500 (Thu, 13 Nov 2025) EndedAt: 2025-11-13 23:43:38 -0500 (Thu, 13 Nov 2025) EllapsedTime: 14.4 seconds RetCode: 0 Status: OK PackageFile: lisaClust_1.19.0.tgz PackageFileSize: 2.64 MiB