Package: lisaClust Version: 1.19.0 Maintainer: Ellis Patrick MaintainerEmail: ellis.patrick at sydney.edu.au git_url: https://git.bioconductor.org/packages/lisaClust git_branch: devel git_last_commit: f25f3da git_last_commit_date: 2025-10-29 11:06:59 -0500 (Wed, 29 Oct 2025)