Package: lipidr Version: 2.25.0 Command: /Library/Frameworks/R.framework/Resources/bin/R CMD INSTALL lipidr StartedAt: 2025-11-23 15:20:13 -0500 (Sun, 23 Nov 2025) EndedAt: 2025-11-23 15:20:24 -0500 (Sun, 23 Nov 2025) EllapsedTime: 11.6 seconds RetCode: 0 Status: OK