Package: lipidr Version: 2.25.0 Command: /Library/Frameworks/R.framework/Resources/bin/R CMD build --keep-empty-dirs --no-resave-data lipidr StartedAt: 2025-11-23 16:48:52 -0500 (Sun, 23 Nov 2025) EndedAt: 2025-11-23 16:49:15 -0500 (Sun, 23 Nov 2025) EllapsedTime: 23.3 seconds RetCode: 0 Status: OK PackageFile: lipidr_2.25.0.tar.gz PackageFileSize: 3.391 MiB