Package: lipidr Version: 2.25.0 Command: rm -rf lipidr.buildbin-libdir && mkdir lipidr.buildbin-libdir && /Users/biocbuild/BBS/utils/build-universal.sh lipidr_2.25.0.tar.gz /Library/Frameworks/R.framework/Resources/bin/R lipidr.buildbin-libdir StartedAt: 2025-11-23 23:41:21 -0500 (Sun, 23 Nov 2025) EndedAt: 2025-11-23 23:41:36 -0500 (Sun, 23 Nov 2025) EllapsedTime: 14.4 seconds RetCode: 0 Status: OK PackageFile: lipidr_2.25.0.tgz PackageFileSize: 3.542 MiB