Package: linkSet Version: 1.1.0 Command: /home/biocbuild/bbs-3.23-bioc/R/bin/R CMD build --keep-empty-dirs --no-resave-data linkSet StartedAt: 2025-11-13 18:20:21 -0500 (Thu, 13 Nov 2025) EndedAt: 2025-11-13 18:21:36 -0500 (Thu, 13 Nov 2025) EllapsedTime: 75.1 seconds RetCode: 0 Status: OK PackageFile: linkSet_1.1.0.tar.gz PackageFileSize: 4.3 MiB