Package: linkSet Version: 1.1.0 Command: /Library/Frameworks/R.framework/Resources/bin/R CMD build --keep-empty-dirs --no-resave-data linkSet StartedAt: 2025-11-12 16:36:07 -0500 (Wed, 12 Nov 2025) EndedAt: 2025-11-12 16:36:35 -0500 (Wed, 12 Nov 2025) EllapsedTime: 28.3 seconds RetCode: 1 Status: ERROR PackageFile: None PackageFileSize: NA