Package: lineagespot Version: 1.15.0 Command: /Library/Frameworks/R.framework/Resources/bin/R CMD build --keep-empty-dirs --no-resave-data lineagespot StartedAt: 2025-11-12 16:36:01 -0500 (Wed, 12 Nov 2025) EndedAt: 2025-11-12 16:36:27 -0500 (Wed, 12 Nov 2025) EllapsedTime: 26.3 seconds RetCode: 0 Status: OK PackageFile: lineagespot_1.15.0.tar.gz PackageFileSize: 718.5 KiB