Package: lineagespot Version: 1.15.0 Command: rm -rf lineagespot.buildbin-libdir && mkdir lineagespot.buildbin-libdir && /Users/biocbuild/BBS/utils/build-universal.sh lineagespot_1.15.0.tar.gz /Library/Frameworks/R.framework/Resources/bin/R lineagespot.buildbin-libdir StartedAt: 2025-11-13 23:43:18 -0500 (Thu, 13 Nov 2025) EndedAt: 2025-11-13 23:43:37 -0500 (Thu, 13 Nov 2025) EllapsedTime: 19.5 seconds RetCode: 0 Status: OK PackageFile: lineagespot_1.15.0.tgz PackageFileSize: 767.9 KiB