Package: lineagespot Version: 1.15.0 Maintainer: Nikolaos Pechlivanis MaintainerEmail: inab.bioinformatics at lists.certh.gr git_url: https://git.bioconductor.org/packages/lineagespot git_branch: devel git_last_commit: 409c851 git_last_commit_date: 2025-10-29 11:14:52 -0500 (Wed, 29 Oct 2025)