Package: limmaGUI Version: 1.87.0 Command: /Library/Frameworks/R.framework/Resources/bin/R CMD INSTALL limmaGUI StartedAt: 2025-11-12 15:17:24 -0500 (Wed, 12 Nov 2025) EndedAt: 2025-11-12 15:17:39 -0500 (Wed, 12 Nov 2025) EllapsedTime: 15.1 seconds RetCode: 0 Status: OK