Package: limmaGUI Version: 1.87.0 Command: /Library/Frameworks/R.framework/Resources/bin/R CMD build --keep-empty-dirs --no-resave-data limmaGUI StartedAt: 2025-11-12 16:35:47 -0500 (Wed, 12 Nov 2025) EndedAt: 2025-11-12 16:35:59 -0500 (Wed, 12 Nov 2025) EllapsedTime: 11.1 seconds RetCode: 0 Status: OK PackageFile: limmaGUI_1.87.0.tar.gz PackageFileSize: 5.346 MiB