Package: limmaGUI Version: 1.87.0 Command: rm -rf limmaGUI.buildbin-libdir && mkdir limmaGUI.buildbin-libdir && /Users/biocbuild/BBS/utils/build-universal.sh limmaGUI_1.87.0.tar.gz /Library/Frameworks/R.framework/Resources/bin/R limmaGUI.buildbin-libdir StartedAt: 2025-11-12 21:01:17 -0500 (Wed, 12 Nov 2025) EndedAt: 2025-11-12 21:01:49 -0500 (Wed, 12 Nov 2025) EllapsedTime: 31.8 seconds RetCode: 0 Status: OK PackageFile: limmaGUI_1.87.0.tgz PackageFileSize: 5.958 MiB