Package: limmaGUI Version: 1.87.0 Maintainer: Gordon Smyth MaintainerEmail: smyth at wehi.edu.au git_url: https://git.bioconductor.org/packages/limmaGUI git_branch: devel git_last_commit: 5172739 git_last_commit_date: 2025-10-29 09:54:49 -0500 (Wed, 29 Oct 2025)