Package: levi Version: 1.29.0 Command: /Library/Frameworks/R.framework/Resources/bin/R CMD INSTALL levi StartedAt: 2025-11-13 15:05:51 -0500 (Thu, 13 Nov 2025) EndedAt: 2025-11-13 15:05:57 -0500 (Thu, 13 Nov 2025) EllapsedTime: 6.1 seconds RetCode: 0 Status: OK