Package: levi Version: 1.29.0 Command: /Library/Frameworks/R.framework/Resources/bin/R CMD build --keep-empty-dirs --no-resave-data levi StartedAt: 2025-11-13 16:50:28 -0500 (Thu, 13 Nov 2025) EndedAt: 2025-11-13 16:51:29 -0500 (Thu, 13 Nov 2025) EllapsedTime: 61.7 seconds RetCode: 0 Status: OK PackageFile: levi_1.29.0.tar.gz PackageFileSize: 2.782 MiB