Package: levi Version: 1.29.0 Command: rm -rf levi.buildbin-libdir && mkdir levi.buildbin-libdir && /Users/biocbuild/BBS/utils/build-universal.sh levi_1.29.0.tar.gz /Library/Frameworks/R.framework/Resources/bin/R levi.buildbin-libdir StartedAt: 2025-11-13 23:43:13 -0500 (Thu, 13 Nov 2025) EndedAt: 2025-11-13 23:43:22 -0500 (Thu, 13 Nov 2025) EllapsedTime: 9.3 seconds RetCode: 0 Status: OK PackageFile: levi_1.29.0.tgz PackageFileSize: 2.354 MiB