Package: leapR Version: 0.99.5 Command: /Library/Frameworks/R.framework/Resources/bin/R CMD INSTALL leapR StartedAt: 2025-11-14 15:11:40 -0500 (Fri, 14 Nov 2025) EndedAt: 2025-11-14 15:11:49 -0500 (Fri, 14 Nov 2025) EllapsedTime: 9.4 seconds RetCode: 0 Status: OK