Package: leapR Version: 0.99.5 Command: /Library/Frameworks/R.framework/Resources/bin/R CMD build --keep-empty-dirs --no-resave-data leapR StartedAt: 2025-11-16 16:47:48 -0500 (Sun, 16 Nov 2025) EndedAt: 2025-11-16 16:52:29 -0500 (Sun, 16 Nov 2025) EllapsedTime: 281.2 seconds RetCode: 0 Status: OK PackageFile: leapR_0.99.5.tar.gz PackageFileSize: 2.483 MiB