Package: leapR Version: 0.99.5 Command: rm -rf leapR.buildbin-libdir && mkdir leapR.buildbin-libdir && /Users/biocbuild/BBS/utils/build-universal.sh leapR_0.99.5.tar.gz /Library/Frameworks/R.framework/Resources/bin/R leapR.buildbin-libdir StartedAt: 2025-11-14 23:38:11 -0500 (Fri, 14 Nov 2025) EndedAt: 2025-11-14 23:38:22 -0500 (Fri, 14 Nov 2025) EllapsedTime: 11.3 seconds RetCode: 0 Status: OK PackageFile: leapR_0.99.5.tgz PackageFileSize: 2.533 MiB