Package: kmcut Version: 1.5.0 Command: /home/biocbuild/bbs-3.23-bioc/R/bin/R CMD INSTALL kmcut StartedAt: 2025-11-13 15:23:40 -0500 (Thu, 13 Nov 2025) EndedAt: 2025-11-13 15:24:00 -0500 (Thu, 13 Nov 2025) EllapsedTime: 19.6 seconds RetCode: 0 Status: OK