Package: kmcut Version: 1.5.0 Command: /home/biocbuild/bbs-3.23-bioc/R/bin/R CMD build --keep-empty-dirs --no-resave-data kmcut StartedAt: 2025-11-14 18:18:24 -0500 (Fri, 14 Nov 2025) EndedAt: 2025-11-14 18:19:01 -0500 (Fri, 14 Nov 2025) EllapsedTime: 37.1 seconds RetCode: 0 Status: OK PackageFile: kmcut_1.5.0.tar.gz PackageFileSize: 1.166 MiB