Package: kmcut Version: 1.5.0 Command: /Library/Frameworks/R.framework/Resources/bin/R CMD INSTALL kmcut StartedAt: 2025-11-14 15:15:23 -0500 (Fri, 14 Nov 2025) EndedAt: 2025-11-14 15:15:32 -0500 (Fri, 14 Nov 2025) EllapsedTime: 8.3 seconds RetCode: 0 Status: OK