Package: kmcut Version: 1.5.0 Command: /Library/Frameworks/R.framework/Resources/bin/R CMD build --keep-empty-dirs --no-resave-data kmcut StartedAt: 2025-11-14 16:46:42 -0500 (Fri, 14 Nov 2025) EndedAt: 2025-11-14 16:46:58 -0500 (Fri, 14 Nov 2025) EllapsedTime: 16.2 seconds RetCode: 0 Status: OK PackageFile: kmcut_1.5.0.tar.gz PackageFileSize: 1.259 MiB