Package: kmcut Version: 1.5.0 Command: rm -rf kmcut.buildbin-libdir && mkdir kmcut.buildbin-libdir && /Users/biocbuild/BBS/utils/build-universal.sh kmcut_1.5.0.tar.gz /Library/Frameworks/R.framework/Resources/bin/R kmcut.buildbin-libdir StartedAt: 2025-11-14 23:38:04 -0500 (Fri, 14 Nov 2025) EndedAt: 2025-11-14 23:38:15 -0500 (Fri, 14 Nov 2025) EllapsedTime: 11.3 seconds RetCode: 0 Status: OK PackageFile: kmcut_1.5.0.tgz PackageFileSize: 1.279 MiB