Package: kmcut Version: 1.5.0 Maintainer: Igor Kuznetsov MaintainerEmail: ibkalb at gmail.com git_url: https://git.bioconductor.org/packages/kmcut git_branch: devel git_last_commit: 2654e48 git_last_commit_date: 2025-10-29 11:31:26 -0500 (Wed, 29 Oct 2025)