Package: kebabs Version: 1.45.0 Command: /home/biocbuild/bbs-3.23-bioc/R/bin/R CMD build --keep-empty-dirs --no-resave-data kebabs StartedAt: 2025-11-13 18:17:30 -0500 (Thu, 13 Nov 2025) EndedAt: 2025-11-13 18:21:34 -0500 (Thu, 13 Nov 2025) EllapsedTime: 244.4 seconds RetCode: 0 Status: OK PackageFile: kebabs_1.45.0.tar.gz PackageFileSize: 2.259 MiB