Package: kebabs Version: 1.45.0 Maintainer: Ulrich Bodenhofer MaintainerEmail: ulrich at bodenhofer.com git_url: https://git.bioconductor.org/packages/kebabs git_branch: devel git_last_commit: 3ed2a80 git_last_commit_date: 2025-10-29 10:22:35 -0500 (Wed, 29 Oct 2025)