Package: katdetectr Version: 1.13.0 Command: /home/biocbuild/bbs-3.23-bioc/R/bin/R CMD INSTALL katdetectr StartedAt: 2025-11-11 15:46:47 -0500 (Tue, 11 Nov 2025) EndedAt: 2025-11-11 15:47:27 -0500 (Tue, 11 Nov 2025) EllapsedTime: 39.3 seconds RetCode: 0 Status: OK