Package: katdetectr Version: 1.13.0 Command: /home/biocbuild/bbs-3.23-bioc/R/bin/R CMD build --keep-empty-dirs --no-resave-data katdetectr StartedAt: 2025-11-13 18:17:02 -0500 (Thu, 13 Nov 2025) EndedAt: 2025-11-13 18:18:21 -0500 (Thu, 13 Nov 2025) EllapsedTime: 79.1 seconds RetCode: 0 Status: OK PackageFile: katdetectr_1.13.0.tar.gz PackageFileSize: 1.343 MiB