Package: katdetectr Version: 1.13.0 Command: /Library/Frameworks/R.framework/Resources/bin/R CMD INSTALL katdetectr StartedAt: 2025-11-13 15:22:54 -0500 (Thu, 13 Nov 2025) EndedAt: 2025-11-13 15:23:10 -0500 (Thu, 13 Nov 2025) EllapsedTime: 15.5 seconds RetCode: 0 Status: OK