Package: katdetectr Version: 1.13.0 Command: /Library/Frameworks/R.framework/Resources/bin/R CMD build --keep-empty-dirs --no-resave-data katdetectr StartedAt: 2025-11-13 16:49:19 -0500 (Thu, 13 Nov 2025) EndedAt: 2025-11-13 16:49:50 -0500 (Thu, 13 Nov 2025) EllapsedTime: 31.4 seconds RetCode: 0 Status: OK PackageFile: katdetectr_1.13.0.tar.gz PackageFileSize: 1.45 MiB