Package: katdetectr Version: 1.13.0 Command: rm -rf katdetectr.buildbin-libdir && mkdir katdetectr.buildbin-libdir && /Users/biocbuild/BBS/utils/build-universal.sh katdetectr_1.13.0.tar.gz /Library/Frameworks/R.framework/Resources/bin/R katdetectr.buildbin-libdir StartedAt: 2025-11-13 23:42:48 -0500 (Thu, 13 Nov 2025) EndedAt: 2025-11-13 23:43:08 -0500 (Thu, 13 Nov 2025) EllapsedTime: 20.5 seconds RetCode: 0 Status: OK PackageFile: katdetectr_1.13.0.tgz PackageFileSize: 1.78 MiB