Package: katdetectr Version: 1.13.0 Maintainer: Daan Hazelaar MaintainerEmail: daanhazelaar at gmail.com git_url: https://git.bioconductor.org/packages/katdetectr git_branch: devel git_last_commit: 01624d8 git_last_commit_date: 2025-10-29 11:17:25 -0500 (Wed, 29 Oct 2025)