Package: jazzPanda Version: 1.3.0 Command: /Library/Frameworks/R.framework/Resources/bin/R CMD INSTALL jazzPanda StartedAt: 2025-11-14 15:14:30 -0500 (Fri, 14 Nov 2025) EndedAt: 2025-11-14 15:14:43 -0500 (Fri, 14 Nov 2025) EllapsedTime: 13.1 seconds RetCode: 0 Status: OK