Package: jazzPanda Version: 1.3.0 Command: /Library/Frameworks/R.framework/Resources/bin/R CMD build --keep-empty-dirs --no-resave-data jazzPanda StartedAt: 2025-11-14 16:46:02 -0500 (Fri, 14 Nov 2025) EndedAt: 2025-11-14 16:47:24 -0500 (Fri, 14 Nov 2025) EllapsedTime: 81.9 seconds RetCode: 0 Status: OK PackageFile: jazzPanda_1.3.0.tar.gz PackageFileSize: 4.099 MiB