Package: iterativeBMAsurv Version: 1.69.0 Command: /home/biocbuild/bbs-3.23-bioc/R/bin/R CMD INSTALL iterativeBMAsurv StartedAt: 2025-11-11 15:09:10 -0500 (Tue, 11 Nov 2025) EndedAt: 2025-11-11 15:09:17 -0500 (Tue, 11 Nov 2025) EllapsedTime: 6.9 seconds RetCode: 0 Status: OK