Package: iterativeBMAsurv Version: 1.69.0 Command: /home/biocbuild/bbs-3.23-bioc/R/bin/R CMD build --keep-empty-dirs --no-resave-data iterativeBMAsurv StartedAt: 2025-11-13 18:16:25 -0500 (Thu, 13 Nov 2025) EndedAt: 2025-11-13 18:16:42 -0500 (Thu, 13 Nov 2025) EllapsedTime: 17.0 seconds RetCode: 0 Status: OK PackageFile: iterativeBMAsurv_1.69.0.tar.gz PackageFileSize: 197.5 KiB