Package: iterativeBMAsurv Version: 1.69.0 Command: /Library/Frameworks/R.framework/Resources/bin/R CMD INSTALL iterativeBMAsurv StartedAt: 2025-11-12 15:17:43 -0500 (Wed, 12 Nov 2025) EndedAt: 2025-11-12 15:17:50 -0500 (Wed, 12 Nov 2025) EllapsedTime: 6.6 seconds RetCode: 0 Status: OK